BEGIN:VCALENDAR
VERSION:2.0
PRODID:-//ChamberMaster//Event Calendar 2.0//EN
METHOD:PUBLISH
X-PUBLISHED-TTL:P3D
REFRESH-INTERVAL:P3D
CALSCALE:GREGORIAN
BEGIN:VEVENT
DTSTART:20260725T150000Z
DTEND:20260725T210000Z
X-MICROSOFT-CDO-ALLDAYEVENT:FALSE
SUMMARY:Smokin' Saddles Pro BBQ
DESCRIPTION:9:30 AM | THE NATIONAL BEEF SMOKIN' SADDLES OFFICIAL BBQ CONTEST\n\n  Wright Park   71 N. 2nd Ave.\n\nTo register or get more details\, reach out to the Dodge City Area Chamber of Commerce at (620) 227-3119\, dcdays@dodgechamber.com\, or visit dodgecitydays.org.\n\n  A 2026 Dodge City Days lapel pin is required for park entry.\n\n  Please leave pets at home.\n\nFriday\, July 24   KidsQ Competition\n\n\n	\n	All Day   KidsQ Registration\n	\n	\n	5:15 PM   KidsQ Cook Meeting\n	\n	\n	5:30 PM   KidsQ Cooking Begins\n	\n	\n	6:30 PM   Slider Turn-In (Kids)\n	\n	\n	7:00 PM   Steak Turn-In (Kids)\n	\n	\n	8:15 PM   KidsQ Awards Ceremony\n	\n	\n	8:30 PM   Cooks Meeting for Saturday (Pro/Backyard)\n	\n\n\n\nSaturday\, July 25   Pro & Backyard Competitions\n\n\n	\n	12:00 PM   Chicken Turn-In\n	\n	\n	12:30 PM   Ribs Turn-In\n	\n	\n	1:00 PM   Pork Turn-In\n	\n	\n	1:30 PM   Brisket Turn-In\n	\n	\n	2:00 PM   Misc. Turn-In\n	\n	\n	3:00 PM   Backyard & Pitmaster Awards
X-ALT-DESC;FMTTYPE=text/html:<h3 data-end="1139" data-start="1105"><strong data-end="211" data-start="127" style="font-size: 13px\;">9:30 AM | THE NATIONAL BEEF SMOKIN&rsquo\; SADDLES OFFICIAL BBQ CONTEST</strong></h3>\n\n<p data-end="247" data-start="214">&#128205\; <em data-end="247" data-start="217">Wright Park &ndash\; 71 N. 2nd Ave.</em></p>\n\n<p data-end="683" data-start="249">To register or get more details\, reach out to the <strong data-end="884" data-start="845">Dodge City Area Chamber of Commerce</strong> at <strong data-end="906" data-start="888">(620) 227-3119</strong>\, <strong data-end="935" data-start="908"><a data-end="933" data-start="910" rel="noopener">dcdays@dodgechamber.com</a></strong>\, or visit <strong data-end="996" data-start="946"><a data-end="994" data-start="948" href="https://dodgecitydays.org" rel="noopener" target="_new">dodgecitydays.org</a></strong>.</p>\n\n<p data-end="1098" data-start="999">&#128073\; <em data-end="1064" data-start="1002">A 2026 Dodge City Days lapel pin is required for park entry.</em><br data-end="1067" data-start="1064" />\n&#128062\; <em data-end="1098" data-start="1070">Please leave pets at home.</em></p>\n\n<h3 data-end="171" data-start="128"><strong data-end="171" data-start="132">Friday\, July 24&nbsp\;&ndash\; KidsQ Competition</strong></h3>\n\n<ul data-end="462" data-start="173">\n	<li data-end="209" data-start="173">\n	<p data-end="209" data-start="175"><strong data-end="186" data-start="175">All Day</strong> &ndash\; KidsQ Registration</p>\n	</li>\n	<li data-end="246" data-start="210">\n	<p data-end="246" data-start="212"><strong data-end="223" data-start="212">5:15 PM</strong> &ndash\; KidsQ Cook Meeting</p>\n	</li>\n	<li data-end="285" data-start="247">\n	<p data-end="285" data-start="249"><strong data-end="260" data-start="249">5:30 PM</strong> &ndash\; KidsQ Cooking Begins</p>\n	</li>\n	<li data-end="325" data-start="286">\n	<p data-end="325" data-start="288"><strong data-end="299" data-start="288">6:30 PM</strong> &ndash\; Slider Turn-In (Kids)</p>\n	</li>\n	<li data-end="364" data-start="326">\n	<p data-end="364" data-start="328"><strong data-end="339" data-start="328">7:00 PM</strong> &ndash\; Steak Turn-In (Kids)</p>\n	</li>\n	<li data-end="404" data-start="365">\n	<p data-end="404" data-start="367"><strong data-end="378" data-start="367">8:15 PM</strong> &ndash\; KidsQ Awards Ceremony</p>\n	</li>\n	<li data-end="462" data-start="405">\n	<p data-end="462" data-start="407"><strong data-end="418" data-start="407">8:30 PM</strong> &ndash\; Cooks Meeting for Saturday (Pro/Backyard)</p>\n	</li>\n</ul>\n\n<hr data-end="467" data-start="464" />\n<h3 data-end="524" data-start="469"><strong data-end="524" data-start="473">Saturday\, July 25&nbsp\;&ndash\; Pro &amp\; Backyard Competitions</strong></h3>\n\n<ul data-end="857" data-start="526">\n	<li data-end="575" data-start="526">\n	<p data-end="575" data-start="528"><strong data-end="540" data-start="528">12:00 PM</strong> &ndash\;&nbsp\;Chicken Turn-In</p>\n	</li>\n	<li data-end="627" data-start="576">\n	<p data-end="627" data-start="578"><strong data-end="590" data-start="578">12:30 PM</strong> &ndash\;&nbsp\;Ribs Turn-In</p>\n	</li>\n	<li data-end="674" data-start="628">\n	<p data-end="674" data-start="630"><strong data-end="641" data-start="630">1:00 PM</strong> &ndash\; Pork Turn-In</p>\n	</li>\n	<li data-end="728" data-start="675">\n	<p data-end="728" data-start="677"><strong data-end="688" data-start="677">1:30 PM</strong> &ndash\; Brisket Turn-In</p>\n	</li>\n	<li data-end="764" data-start="729">\n	<p data-end="764" data-start="731"><strong data-end="742" data-start="731">2:00 PM</strong> &ndash\; Misc. Turn-In</p>\n	</li>\n	<li data-end="810" data-start="765">\n	<p data-end="810" data-start="767"><strong data-end="778" data-start="767">3:00 PM</strong> &ndash\; Backyard &amp\; Pitmaster Awards</p>\n	</li>\n</ul>\n
LOCATION:Wright Park 71 N. 2nd Ave. Dodge City\, KS 67801
UID:e.2242.3174
SEQUENCE:3
DTSTAMP:20260422T112628Z
URL:https://business.dodgechamber.com/events/details/smokin-saddles-pro-bbq-3174
END:VEVENT

END:VCALENDAR
