BEGIN:VCALENDAR
VERSION:2.0
PRODID:-//ChamberMaster//Event Calendar 2.0//EN
METHOD:PUBLISH
X-PUBLISHED-TTL:P3D
REFRESH-INTERVAL:P3D
CALSCALE:GREGORIAN
BEGIN:VEVENT
DTSTART:20250411T214500Z
DTEND:20250411T220000Z
X-MICROSOFT-CDO-ALLDAYEVENT:FALSE
SUMMARY:Ribbon Cutting - Fusion Athletics
DESCRIPTION:You're invited to join us for a Ribbon Cutting Ceremony at Fusion Athletics!\n\n  510 E. Wyatt Earp Blvd\n\n  Friday\, April 11th\n\n  Ribbon will be cut promptly at 5:00 PM\n\nCome show your support and help us welcome Fusion Athletics to the Dodge City business community. We hope to see you there!
X-ALT-DESC;FMTTYPE=text/html:<div data-olk-copy-source="CalendarCompose" style="border: 0px\; font-variant-numeric: inherit\; font-variant-east-asian: inherit\; font-variant-alternates: inherit\; font-variant-position: inherit\; font-variant-emoji: inherit\; font-stretch: inherit\; font-size: 11pt\; line-height: inherit\; font-family: Calibri\, Helvetica\, sans-serif\, serif\, EmojiFont\; font-optical-sizing: inherit\; font-size-adjust: inherit\; font-kerning: inherit\; font-feature-settings: inherit\; font-variation-settings: inherit\; margin: 1em 0px\; padding: 0px\; vertical-align: baseline\; color: rgb(0\, 0\, 0)\;">You&#39\;re invited to join us for a Ribbon Cutting Ceremony&nbsp\;at Fusion Athletics!</div>\n\n<div style="border: 0px\; font-variant-numeric: inherit\; font-variant-east-asian: inherit\; font-variant-alternates: inherit\; font-variant-position: inherit\; font-variant-emoji: inherit\; font-stretch: inherit\; font-size: 11pt\; line-height: inherit\; font-family: Calibri\, Helvetica\, sans-serif\, serif\, EmojiFont\; font-optical-sizing: inherit\; font-size-adjust: inherit\; font-kerning: inherit\; font-feature-settings: inherit\; font-variation-settings: inherit\; margin: 1em 0px\; padding: 0px\; vertical-align: baseline\; color: rgb(0\, 0\, 0)\;">&#128205\; 510 E. Wyatt Earp Blvd<br />\n&#128197\; Friday\, April 11th<br />\n&#9200\; Ribbon will be cut promptly at 5:00 PM</div>\n\n<div style="border: 0px\; font-variant-numeric: inherit\; font-variant-east-asian: inherit\; font-variant-alternates: inherit\; font-variant-position: inherit\; font-variant-emoji: inherit\; font-stretch: inherit\; font-size: 11pt\; line-height: inherit\; font-family: Calibri\, Helvetica\, sans-serif\, serif\, EmojiFont\; font-optical-sizing: inherit\; font-size-adjust: inherit\; font-kerning: inherit\; font-feature-settings: inherit\; font-variation-settings: inherit\; margin: 1em 0px\; padding: 0px\; vertical-align: baseline\; color: rgb(0\, 0\, 0)\;">Come show your support and help us welcome Fusion Athletics to the Dodge City business community. We hope to see you there!</div>\n
LOCATION:
UID:e.2242.3113
SEQUENCE:3
DTSTAMP:20260420T083054Z
URL:https://business.dodgechamber.com/events/details/ribbon-cutting-fusion-athletics-3113
END:VEVENT

END:VCALENDAR
