BEGIN:VCALENDAR
VERSION:2.0
PRODID:-//ChamberMaster//Event Calendar 2.0//EN
METHOD:PUBLISH
X-PUBLISHED-TTL:P3D
REFRESH-INTERVAL:P3D
CALSCALE:GREGORIAN
BEGIN:VEVENT
DTSTART:20250828T190000Z
DTEND:20250828T193000Z
X-MICROSOFT-CDO-ALLDAYEVENT:FALSE
SUMMARY:Ribbon Cutting - DCCC Automotive Technology Program
DESCRIPTION:DCCC Automotive Technology Program\n\n  Thursday\, August 28th\n\n  2:00 PM\n\n  Dodge City Community College   Automotive Tech Facility
X-ALT-DESC;FMTTYPE=text/html:&#128663\; <strong data-end="342" data-start="304">DCCC Automotive Technology Program</strong><br data-end="345" data-start="342" />\n&#128197\; <em data-end="372" data-start="348">Thursday\, August 28th</em><br data-end="375" data-start="372" />\n&#128337\; 2:00 PM<br data-end="388" data-start="385" />\n&#128205\; Dodge City Community College &ndash\; Automotive Tech Facility
LOCATION:
UID:e.2242.3142
SEQUENCE:3
DTSTAMP:20260426T011916Z
URL:https://business.dodgechamber.com/events/details/ribbon-cutting-dccc-automotive-technology-program-3142
END:VEVENT

END:VCALENDAR
