BEGIN:VCALENDAR
VERSION:2.0
PRODID:-//ChamberMaster//Event Calendar 2.0//EN
METHOD:PUBLISH
X-PUBLISHED-TTL:P3D
REFRESH-INTERVAL:P3D
CALSCALE:GREGORIAN
BEGIN:VEVENT
DTSTART:20260427T163000Z
DTEND:20260427T170000Z
X-MICROSOFT-CDO-ALLDAYEVENT:FALSE
SUMMARY:Ribbon Cutting celebrating the new Bowling Alley and Weight Room at Dodge City High School
DESCRIPTION:Join the Dodge City Area Chamber in celebrating an exciting new addition at Dodge City High School with a Ribbon Cutting for the new Bowling Alley and Weight Room.\n\n  Dodge City High School\, 2201 W. Ross Blvd\n\n  Monday\, April 27\, 2026\n\n  Ribbon Cutting at 11:30 AM\n\nThis new facility will create more opportunities for student engagement\, including the launch of Unified Bowling\, which will pair students with unique needs and peer partners for competition. It is designed to ensure more students have a place to participate\, compete\, and represent Dodge City.\n\nThe expanded weight room will also better serve the growing number of students using the space each day\, with a focus on strength\, conditioning\, and injury prevention for student-athletes.\n\nThe community is invited to attend. Guests are encouraged to park by the pond for a short walk to the entrance of the addition.\n\nWe hope you will join us for this special celebration.
X-ALT-DESC;FMTTYPE=text/html:<p data-end="247" data-start="84">Join the Dodge City Area Chamber in celebrating an exciting new addition at Dodge City High School with a Ribbon Cutting for the new Bowling Alley and Weight Room.</p>\n\n<p data-end="354" data-start="249">&#128205\; Dodge City High School\, 2201 W. Ross Blvd<br data-end="296" data-start="293" />\n&#128197\; Monday\, April 27\, 2026<br data-end="324" data-start="321" />\n&#9200\; Ribbon Cutting at 11:30 AM</p>\n\n<p data-end="650" data-start="356">This new facility will create more opportunities for student engagement\, including the launch of Unified Bowling\, which will pair students with unique needs and peer partners for competition. It is designed to ensure more students have a place to participate\, compete\, and represent Dodge City.</p>\n\n<p data-end="840" data-start="652">The expanded weight room will also better serve the growing number of students using the space each day\, with a focus on strength\, conditioning\, and injury prevention for student-athletes.</p>\n\n<p data-end="969" data-start="842">The community is invited to attend. Guests are encouraged to park by the pond for a short walk to the entrance of the addition.</p>\n\n<p data-end="1025" data-start="971">We hope you will join us for this special celebration.</p>\n
LOCATION:
UID:e.2242.3197
SEQUENCE:3
DTSTAMP:20260422T004836Z
URL:https://business.dodgechamber.com/events/details/ribbon-cutting-celebrating-the-new-bowling-alley-and-weight-room-at-dodge-city-high-school-3197
END:VEVENT

END:VCALENDAR
