BEGIN:VCALENDAR
VERSION:2.0
PRODID:-//ChamberMaster//Event Calendar 2.0//EN
METHOD:PUBLISH
X-PUBLISHED-TTL:P3D
REFRESH-INTERVAL:P3D
CALSCALE:GREGORIAN
BEGIN:VEVENT
DTSTART:20231109T180000Z
DTEND:20231109T190000Z
X-MICROSOFT-CDO-ALLDAYEVENT:FALSE
SUMMARY:Ribbon Cutting and Open House Municipal Service Building
DESCRIPTION:The City of Dodge City is hosting an Open House for the Municipal Services Building (MSB) located at 100 Chaffin Road on Thursday\, November 9 from 11am   1pm.\n\n\n\nCutting the ribbon at Noon!
X-ALT-DESC;FMTTYPE=text/html:<p class="xxmsonormal">The City of Dodge City is hosting an Open House for the Municipal Services Building (MSB) located at 100 Chaffin Road on Thursday\, November 9 from 11am &ndash\; 1pm.<br />\n<br />\nCutting the ribbon at Noon!&nbsp\;<o:p></o:p></p>\n
LOCATION:100 Chaffin Road
UID:e.2242.2930
SEQUENCE:3
DTSTAMP:20260420T204123Z
URL:https://business.dodgechamber.com/events/details/ribbon-cutting-and-open-house-municipal-service-building-2930
END:VEVENT

END:VCALENDAR
