BEGIN:VCALENDAR
VERSION:2.0
PRODID:-//ChamberMaster//Event Calendar 2.0//EN
METHOD:PUBLISH
X-PUBLISHED-TTL:P3D
REFRESH-INTERVAL:P3D
CALSCALE:GREGORIAN
BEGIN:VEVENT
DTSTART;VALUE=DATE:20231128
DTEND;VALUE=DATE:20231201
TRANSP:TRANSPARENT
X-MICROSOFT-CDO-ALLDAYEVENT:TRUE
SUMMARY:National Rarities Buying Event
DESCRIPTION:Do you have unwanted valuables that you have been considering selling? Come in November 28th - November 30th for our Buying Event with National Rarities and get a professional evaluation of your valuables!
X-ALT-DESC;FMTTYPE=text/html:<span style="background-color:rgb(255\, 255\, 255)\; color:rgb(5\, 5\, 5)\; font-family:segoe ui historic\,segoe ui\,helvetica\,arial\,sans-serif\; font-size:15px">Do you have unwanted valuables that you have been considering selling? Come in November 28</span><span style="background-color:rgb(255\, 255\, 255)\; color:rgb(5\, 5\, 5)\; font-family:segoe ui historic\,segoe ui\,helvetica\,arial\,sans-serif\; font-size:15px">th - November 30th for our Buying Event with National Rarities and get a professional evaluation of your valuables!</span>
LOCATION:2600 Central Avenue\, Gibson Mall\, Dodge City\, KS 67801
UID:e.2242.2937
SEQUENCE:3
DTSTAMP:20260420T184943Z
URL:https://business.dodgechamber.com/events/details/national-rarities-buying-event-2937
END:VEVENT

END:VCALENDAR
