BEGIN:VCALENDAR
VERSION:2.0
PRODID:-//ChamberMaster//Event Calendar 2.0//EN
METHOD:PUBLISH
X-PUBLISHED-TTL:P3D
REFRESH-INTERVAL:P3D
CALSCALE:GREGORIAN
BEGIN:VEVENT
DTSTART:20220913T170000Z
DTEND:20220913T180000Z
X-MICROSOFT-CDO-ALLDAYEVENT:FALSE
SUMMARY:Multicultural Committee Meeting
DESCRIPTION:Join our Multicultural Committee for our quarterly meeting.
X-ALT-DESC;FMTTYPE=text/html:Join our Multicultural Committee for our quarterly meeting.&nbsp\;&nbsp\;&nbsp\;&nbsp\;&nbsp\;
LOCATION:Santa Fe Depot 12-1pm. Lunch Provided. RSVP required to abjerken@dodgechamber.com
UID:e.2242.2819
SEQUENCE:3
DTSTAMP:20260421T060909Z
URL:https://business.dodgechamber.com/events/details/multicultural-committee-meeting-2819
END:VEVENT

END:VCALENDAR
