BEGIN:VCALENDAR
VERSION:2.0
PRODID:-//ChamberMaster//Event Calendar 2.0//EN
METHOD:PUBLISH
X-PUBLISHED-TTL:P3D
REFRESH-INTERVAL:P3D
CALSCALE:GREGORIAN
BEGIN:VEVENT
DTSTART;VALUE=DATE:20231117
DTEND;VALUE=DATE:20231120
TRANSP:TRANSPARENT
X-MICROSOFT-CDO-ALLDAYEVENT:TRUE
SUMMARY:Holiday Arts & Craft Show
DESCRIPTION:Join us for a Holiday Arts & Crafts Show!\n\nThe show will run Friday through Sunday. \n\n\n\n*All federal\, state\, and local laws governing retail sales tax must be followed. Each vendor must comply with the rules and regulations. Failure to comply may result in expulsion from the event.\n\nDUE TO LOCATION ON USD443 PREMISES\, NO ALCOHOL OR WEAPON VENDORS ALLOWED.\n\n\n\n\n\nSet Up Hours:\n\nFriday\, November 17th \n\n11AM - 3PM\n\n\n\nShow Times:\n\nFriday\, November 17th\n\n3PM - 7PM\n\n\n\nSaturday\, November 18th\n\n10AM - 6PM\n\n\n\nSunday\, November 19th\n\n12PM  - 4PM\n\n\n\n\n\nShow Participants: \nCONDITIONS FOR SHOW PARTICIPANTS\n\n1.  NO ALCOHOL OR WEAPONS CAN BE SOLD AND/OR ON PREMISES.  \n\n2. This is not a juried show. \n\n3. We will email a booth map\, booth number and other registration information to you by November 1\, 2023. \n\n4.  On-site demonstrations of your skills are greatly encouraged.\n\n5.  All display areas are INDOORS. \n\n6.  Registration is not complete until full payment is rendered. \n\n7.  All participants agree to remain open during show times. \n\n8.  Only one franchise is allowed at the show\, i.e. Pampered Chef\, Scentsy\, etc. (First come first serve.)  Not responsible for duplicate products if franchise /products are not given on registration form. \n\n9.  The building is secured each evening\, however we take no responsibility for lost or stolen items at any point throughout the show. \n\n10. Spaces are not guaranteed and are subject to change. \n\n11. Animals are NOT allowed. \n\n12. We will only have 40 vendors on the gym floor (depending on booth size)\n\n13.Placement will be determined based on registration date. \n\nNo refunds.
X-ALT-DESC;FMTTYPE=text/html:<span style="font-size:14px\;"><span style="font-family:arial\;">Join us for a Holiday Arts &amp\; Crafts Show!<br />\nThe show will run Friday through Sunday.&nbsp\;</span></span><br />\n<br />\n*All federal\, state\, and local laws governing retail sales tax must be followed. Each vendor must comply with the rules and regulations. Failure to comply may result in expulsion from the event.<br />\n<u style="font-family: arial\; font-size: 14px\;">DUE TO LOCATION ON USD443 PREMISES\, NO ALCOHOL OR WEAPON VENDORS ALLOWED.<br />\n<br />\n<br />\nSet Up Hours:</u><br style="font-family: arial\; font-size: 14px\;" />\n<span style="font-family: arial\; font-size: 14px\;">Friday\, November 17th&nbsp\;</span><br style="font-family: arial\; font-size: 14px\;" />\n<span style="font-family: arial\; font-size: 14px\;">11AM - 3PM</span><br />\n<br style="font-family: arial\; font-size: 14px\;" />\nShow Times:<br />\nFriday\, November 17th<br />\n3PM - 7PM<br />\n<br />\nSaturday\, November 18th<br />\n10AM - 6PM<br />\n<br />\nSunday\, November 19th<br />\n12PM&nbsp\; - 4PM<br />\n<br />\n<br />\nShow Participants:&nbsp\;\n<div>CONDITIONS FOR SHOW PARTICIPANTS</div>\n\n<div>1.&nbsp\; NO ALCOHOL OR WEAPONS CAN BE SOLD AND/OR ON PREMISES.&nbsp\;&nbsp\;</div>\n\n<div>2. This is not a juried show.&nbsp\;</div>\n\n<div>3. We will email a booth map\,&nbsp\;booth number and other registration information to&nbsp\;you by November 1\, 2023.&nbsp\;</div>\n\n<div>4.<span style="white-space:pre"> </span> On-site demonstrations of your skills are greatly encouraged.</div>\n\n<div>5.<span style="white-space:pre"> </span> All display areas are INDOORS.&nbsp\;</div>\n\n<div>6.<span style="white-space:pre"> </span> Registration is not complete until full payment is rendered.&nbsp\;</div>\n\n<div>7.&nbsp\; All participants agree to remain open during show times.&nbsp\;</div>\n\n<div>8.<span style="white-space:pre"> </span> Only one franchise is allowed at the show\, i.e. Pampered Chef\, Scentsy\, etc. (First come first serve.) <span style="white-space:pre"> </span>Not responsible for duplicate products if franchise /products are not given on registration form.&nbsp\;</div>\n\n<div>9.<span style="white-space:pre"> </span> The building is secured each evening\, however we take no responsibility&nbsp\;for lost or stolen items at any point throughout the show.&nbsp\;</div>\n\n<div>10. Spaces are not guaranteed and are subject to change.&nbsp\;</div>\n\n<div>11.<span style="white-space:pre"> </span>Animals are NOT allowed.&nbsp\;</div>\n\n<div>12. We will only have 40&nbsp\;vendors on the gym floor (depending on booth size)<br />\n13.Placement will be determined based on registration date.&nbsp\;<br />\nNo refunds.&nbsp\;</div>\n
LOCATION:Dodge City Civic Center 2100 1st Avenue\, Dodge City\, KS
UID:e.2242.2906
SEQUENCE:3
DTSTAMP:20260420T185857Z
URL:https://business.dodgechamber.com/events/details/holiday-arts-craft-show-2906
END:VEVENT

END:VCALENDAR
