BEGIN:VCALENDAR
VERSION:2.0
PRODID:-//ChamberMaster//Event Calendar 2.0//EN
METHOD:PUBLISH
X-PUBLISHED-TTL:P3D
REFRESH-INTERVAL:P3D
CALSCALE:GREGORIAN
BEGIN:VEVENT
DTSTART:20231114T150000Z
DTEND:20231114T160000Z
X-MICROSOFT-CDO-ALLDAYEVENT:FALSE
SUMMARY:Chamber Coffee - Hospice of the Prairie
DESCRIPTION:Chamber Coffee\n\nHospice of the Prairie & Prairie Home Health
X-ALT-DESC;FMTTYPE=text/html:Chamber Coffee<br />\nHospice of the Prairie &amp\; Prairie Home Health<br />\n<br />\n&nbsp\;
LOCATION:200 4th Cir. Dodge City\, KS 67801
UID:e.2242.2928
SEQUENCE:3
DTSTAMP:20260420T185108Z
URL:https://business.dodgechamber.com/events/details/chamber-coffee-hospice-of-the-prairie-2928
END:VEVENT

END:VCALENDAR
