BEGIN:VCALENDAR
VERSION:2.0
PRODID:-//ChamberMaster//Event Calendar 2.0//EN
METHOD:PUBLISH
X-PUBLISHED-TTL:P3D
REFRESH-INTERVAL:P3D
CALSCALE:GREGORIAN
BEGIN:VEVENT
DTSTART;VALUE=DATE:20231102
DTEND;VALUE=DATE:20231105
TRANSP:TRANSPARENT
X-MICROSOFT-CDO-ALLDAYEVENT:TRUE
SUMMARY:Bogo Band Event
DESCRIPTION:Bogo Band Event. Buy one wedding band at regular price and get one free of equal or lesser value.
X-ALT-DESC;FMTTYPE=text/html:Bogo Band Event. Buy one wedding band at regular price and get one free of equal or lesser value.
LOCATION:K Martin Jeweler 2600 Central Avenue\, Dodge City\, KS 67801
UID:e.2242.2931
SEQUENCE:3
DTSTAMP:20260420T183805Z
URL:https://business.dodgechamber.com/events/details/bogo-band-event-2931
END:VEVENT

END:VCALENDAR
