BEGIN:VCALENDAR
VERSION:2.0
PRODID:-//ChamberMaster//Event Calendar 2.0//EN
METHOD:PUBLISH
X-PUBLISHED-TTL:P3D
REFRESH-INTERVAL:P3D
CALSCALE:GREGORIAN
BEGIN:VEVENT
DTSTART:20260725T150000Z
DTEND:20260725T210000Z
X-MICROSOFT-CDO-ALLDAYEVENT:FALSE
SUMMARY:Backyard BBQ Competition
DESCRIPTION:(**) 10AM | CENTERA BANK BACKYARD BBQ CONTEST\n\nWright Park   71 N. 2nd Ave.\n\nThink you've got what it takes to be crowned the best backyard chef? Join us for the Centera Bank Backyard BBQ Contest\, a KCBS Backyard Sanctioned event\, where grill masters compete for cash prizes and bragging rights. \n\n\n\n	THIS IS A KCBS SANTIONED CONTEST\n	WE ARE PARTICIPATING IN THE KCBS "OPEN FORMAT" WHERE BACKYARD TEAMS CAN COMPETE WITH THE MASTERS. PLEASE EMAIL JONI WITTMAN @ JWITTMAN@DODGECHAMBER.COM IF YOU WISH TO PARTICIPATE IN THE OPEN FORMAT. \n	ENTRY FEE: $50.00/ENTRY (Chicken\, Ribs) OR $100.00/ENTRY (Chicken\, Ribs\, Misc.) \n	KCBS SCORING METRIC\n\n\n Turn in times are below. Rules will follow the KCBS guidelines and be judged accordingly\, this is a KCBS sanctioned event. Serving size for judging is 6 and there is no power available for Backyard cooks. \n\n \nFriday\, July 24   KidsQ Competition\n\n\n	\n	All Day   KidsQ Registration\n	\n	\n	5:15 PM   KidsQ Cook Meeting\n	\n	\n	5:30 PM   KidsQ Cooking Begins\n	\n	\n	6:30 PM   Slider Turn-In (Kids)\n	\n	\n	7:00 PM   Steak Turn-In (Kids)\n	\n	\n	8:15 PM   KidsQ Awards Ceremony\n	\n	\n	8:30 PM   Cooks Meeting for Saturday (Pro/Backyard)\n	\n\n\n\nSaturday\, July 25   Pro & Backyard Competitions\n\n\n	\n	12:00 PM    Chicken Turn-In\n	\n	\n	12:30 PM    Ribs Turn-In\n	\n	\n	1:00 PM   Pork Turn-In\n	\n	\n	1:30 PM   Brisket Turn-In\n	\n	\n	2:00 PM   Misc. Turn-In\n	\n	\n	3:00 PM   Backyard & Pitmaster Awards
X-ALT-DESC;FMTTYPE=text/html:<p dir="ltr" style="line-height:1.2\;margin-top:0pt\;margin-bottom:0pt\;">&nbsp\;</p>\n<span class="_fadeIn_m1hgl_8">(**) </span><span class="_fadeIn_m1hgl_8">10AM | </span><span class="_fadeIn_m1hgl_8">CENTERA </span><span class="_fadeIn_m1hgl_8">BANK </span><span class="_fadeIn_m1hgl_8">BACKYARD </span><span class="_fadeIn_m1hgl_8">BBQ </span><span class="_fadeIn_m1hgl_8">CONTEST</span><br data-end="189" data-start="186" />\n<span class="_fadeIn_m1hgl_8">Wright </span><span class="_fadeIn_m1hgl_8">Park &ndash\; </span><span class="_fadeIn_m1hgl_8">71 </span><span class="_fadeIn_m1hgl_8">N. </span><span class="_fadeIn_m1hgl_8">2nd </span><span class="_fadeIn_m1hgl_8">Ave.</span><br data-end="220" data-start="217" />\n<span id="docs-internal-guid-ca1943c4-7fff-2d4c-1e81-08e92037432e"><span style="font-size: 12pt\; font-family: &quot\;Times New Roman&quot\;\, serif\; color: rgb(14\, 14\, 14)\; background-color: transparent\; font-variant-numeric: normal\; font-variant-east-asian: normal\; font-variant-alternates: normal\; font-variant-position: normal\; font-variant-emoji: normal\; vertical-align: baseline\; white-space-collapse: preserve\;">Think you&rsquo\;ve got what it takes to be crowned the best backyard chef? Join us for the </span><span style="font-size: 12pt\; font-family: &quot\;Times New Roman&quot\;\, serif\; color: rgb(14\, 14\, 14)\; background-color: transparent\; font-weight: 700\; font-variant-numeric: normal\; font-variant-east-asian: normal\; font-variant-alternates: normal\; font-variant-position: normal\; font-variant-emoji: normal\; vertical-align: baseline\; white-space-collapse: preserve\;">Centera Bank Backyard BBQ Contest</span><span style="font-size: 12pt\; font-family: &quot\;Times New Roman&quot\;\, serif\; color: rgb(14\, 14\, 14)\; background-color: transparent\; font-variant-numeric: normal\; font-variant-east-asian: normal\; font-variant-alternates: normal\; font-variant-position: normal\; font-variant-emoji: normal\; vertical-align: baseline\; white-space-collapse: preserve\;">\, a KCBS Backyard Sanctioned event\, where grill masters compete for cash prizes and bragging rights. </span></span>\n\n<div>\n<ul>\n	<li><span style="font-size:14px\;"><span style="font-family:arial\;">THIS IS A KCBS SANTIONED CONTEST</span></span></li>\n	<li><span style="font-size:14px\;"><span style="font-family:arial\;">WE ARE PARTICIPATING IN THE KCBS &quot\;OPEN FORMAT&quot\; WHERE BACKYARD TEAMS CAN COMPETE WITH THE MASTERS. PLEASE EMAIL JONI WITTMAN @ JWITTMAN@DODGECHAMBER.COM IF YOU WISH TO PARTICIPATE IN THE OPEN FORMAT.&nbsp\;</span></span></li>\n	<li><span style="font-size:14px\;"><span style="font-family:arial\;">ENTRY FEE: $50.00/ENTRY (Chicken\, Ribs) OR $100.00/ENTRY (Chicken\, Ribs\, Misc.)&nbsp\;</span></span></li>\n	<li><span style="font-size:14px\;"><span style="font-family:arial\;">KCBS SCORING METRIC</span></span></li>\n</ul>\n</div>\n<span style="font-size:14px\;"><span style="font-family:arial\;"> <strong>Turn in times are below. Rules will follow the KCBS guidelines and be judged accordingly\, this is a KCBS sanctioned event. Serving size for judging is 6 and there is no power available for Backyard cooks.&nbsp\;</strong></span></span><br />\n&nbsp\;\n<h3 data-end="171" data-start="128"><strong data-end="171" data-start="132">Friday\, July 24&nbsp\;&ndash\; KidsQ Competition</strong></h3>\n\n<ul data-end="462" data-start="173">\n	<li data-end="209" data-start="173">\n	<p data-end="209" data-start="175"><strong data-end="186" data-start="175">All Day</strong> &ndash\; KidsQ Registration</p>\n	</li>\n	<li data-end="246" data-start="210">\n	<p data-end="246" data-start="212"><strong data-end="223" data-start="212">5:15 PM</strong> &ndash\; KidsQ Cook Meeting</p>\n	</li>\n	<li data-end="285" data-start="247">\n	<p data-end="285" data-start="249"><strong data-end="260" data-start="249">5:30 PM</strong> &ndash\; KidsQ Cooking Begins</p>\n	</li>\n	<li data-end="325" data-start="286">\n	<p data-end="325" data-start="288"><strong data-end="299" data-start="288">6:30 PM</strong> &ndash\; Slider Turn-In (Kids)</p>\n	</li>\n	<li data-end="364" data-start="326">\n	<p data-end="364" data-start="328"><strong data-end="339" data-start="328">7:00 PM</strong> &ndash\; Steak Turn-In (Kids)</p>\n	</li>\n	<li data-end="404" data-start="365">\n	<p data-end="404" data-start="367"><strong data-end="378" data-start="367">8:15 PM</strong> &ndash\; KidsQ Awards Ceremony</p>\n	</li>\n	<li data-end="462" data-start="405">\n	<p data-end="462" data-start="407"><strong data-end="418" data-start="407">8:30 PM</strong> &ndash\; Cooks Meeting for Saturday (Pro/Backyard)</p>\n	</li>\n</ul>\n\n<hr data-end="467" data-start="464" />\n<h3 data-end="524" data-start="469"><strong data-end="524" data-start="473">Saturday\, July 25&nbsp\;&ndash\; Pro &amp\; Backyard Competitions</strong></h3>\n\n<ul data-end="857" data-start="526">\n	<li data-end="575" data-start="526">\n	<p data-end="575" data-start="528"><strong data-end="540" data-start="528">12:00 PM</strong> &ndash\;&nbsp\; Chicken Turn-In</p>\n	</li>\n	<li data-end="627" data-start="576">\n	<p data-end="627" data-start="578"><strong data-end="590" data-start="578">12:30 PM</strong> &ndash\;&nbsp\; Ribs Turn-In</p>\n	</li>\n	<li data-end="674" data-start="628">\n	<p data-end="674" data-start="630"><strong data-end="641" data-start="630">1:00 PM</strong> &ndash\; Pork&nbsp\;Turn-In</p>\n	</li>\n	<li data-end="728" data-start="675">\n	<p data-end="728" data-start="677"><strong data-end="688" data-start="677">1:30 PM</strong> &ndash\;&nbsp\;Brisket Turn-In</p>\n	</li>\n	<li data-end="764" data-start="729">\n	<p data-end="764" data-start="731"><strong data-end="742" data-start="731">2:00 PM</strong> &ndash\; Misc. Turn-In</p>\n	</li>\n	<li data-end="810" data-start="765">\n	<p data-end="810" data-start="767"><strong data-end="778" data-start="767">3:00 PM</strong> &ndash\; Backyard &amp\; Pitmaster Awards</p>\n	</li>\n</ul>\n<span style="font-family:tahoma\;"><em> </em></span><br />\n&nbsp\;
LOCATION:Wright Park 71 N. 2nd Ave. Dodge City\, KS 67801
UID:e.2242.3175
SEQUENCE:3
DTSTAMP:20260422T101747Z
URL:https://business.dodgechamber.com/events/details/backyard-bbq-competition-3175
END:VEVENT

END:VCALENDAR
